BEGIN:VCALENDAR
VERSION:2.0
PRODID:DPCALENDAR
CALSCALE:GREGORIAN
BEGIN:VTIMEZONE
TZID:Europe/Berlin
X-MICROSOFT-CDO-TZID:4
BEGIN:STANDARD
DTSTART:20251026T010000
TZOFFSETFROM:+0200
TZOFFSETTO:+0100
TZNAME:CET
END:STANDARD
BEGIN:STANDARD
DTSTART:20261025T010000
TZOFFSETFROM:+0200
TZOFFSETTO:+0100
TZNAME:CET
END:STANDARD
BEGIN:DAYLIGHT
DTSTART:20260329T010000
TZOFFSETFROM:+0100
TZOFFSETTO:+0200
TZNAME:CEST
END:DAYLIGHT
END:VTIMEZONE
X-WR-TIMEZONE:Europe/Berlin
BEGIN:VEVENT
DTSTART;TZID=Europe/Berlin:20260501T110000
DTEND;TZID=Europe/Berlin:20260501T170000
UID:0B17EA57-8591-4C61-9FFA-189DC1142F60
SUMMARY:Maiausstellung im Gutacher Kurpark
CREATED:20260416T193507Z
DTSTAMP:20260416T193507Z
URL:https://www.schwarzwald-tourismus.info/veranstaltungen/maiausstellung-im-gutacher-kurpark-e745a3773a
DESCRIPTION:Am Freitag, dem 1. Mai 2026, findet im Gutacher Kurpark die Maiausstellung der Hobbykünstler Gutachtal e.V. statt.\NDabei werden sie kräftig unterstützt von der Trachtenkapelle Gutach, die mit schwungvoller Musik die Veranstaltung begleitet. Die Kindertanzgruppe darf natürlich auch nicht fehlen. Ebenso sind Mitglieder des Club Caméléon aus der Partnergemeinde Stoßwihr vertreten und bieten elsässische Leckereien an: Münsterkas und andere Käsesorten, Wein und Backwaren. Die Hobbykünstler übernehmen die Bewirtung und stellen zusammen mit geladenen Künstlern aus der Region ihre Werke aus.Der Markt beginnt um 11:00 Uhr und endet um 17:00 Uhr. Die Bevölkerung von Gutach und Umgebung ist herzlich eingeladen, die Maiausstellung zu besuchen. Sollte allerdings extrem schlechtes Wetter herrschen, kann der Markt kurzfristig abgesagt werden.
X-ALT-DESC;FMTTYPE=text/html:<p>Am Freitag, dem 1. Mai 2026, findet im Gutacher Kurpark die Maiausstellung der Hobbykünstler Gutachtal e.V. statt.</p><p>Dabei werden sie kräftig unterstützt von der Trachtenkapelle Gutach, die mit schwungvoller Musik die Veranstaltung begleitet. Die Kindertanzgruppe darf natürlich auch nicht fehlen. Ebenso sind Mitglieder des Club Caméléon aus der Partnergemeinde Stoßwihr vertreten und bieten elsässische Leckereien an: Münsterkas und andere Käsesorten, Wein und Backwaren. Die Hobbykünstler übernehmen die Bewirtung und stellen zusammen mit geladenen Künstlern aus der Region ihre Werke aus.<br />Der Markt beginnt um 11:00 Uhr und endet um 17:00 Uhr. Die Bevölkerung von Gutach und Umgebung ist herzlich eingeladen, die Maiausstellung zu besuchen. Sollte allerdings extrem schlechtes Wetter herrschen, kann der Markt kurzfristig abgesagt werden.</p>
LAST-MODIFIED:20260417T060349Z
SEQUENCE:37722
X-ACCESS:1
X-HITS:10
X-COLOR:3366cc
X-SHOW-END-TIME:1
END:VEVENT
BEGIN:VEVENT
DTSTART;TZID=Europe/Berlin:20260503T120000
DTEND;TZID=Europe/Berlin:20260503T170000
UID:F9F3A5F9-FFB3-46AB-BC60-50B081100083
SUMMARY:Wolfacher Stadtbrunnenfest - Verkaufsoffener Sonntag
CREATED:20260416T195412Z
DTSTAMP:20260416T195412Z
URL:https://www.wolfach.info/veranstaltungskalender/wolfacher-stadtbrunnenfest-verkaufsoffener-sonntag-a45f82b106
DESCRIPTION:Einkaufen, bummeln & genießen...\NEndlich ist Frühling! Und das heißt auch: Zeit fürs „Stadtbrunnenfest“ und den beliebten verkaufsoffenen Sonntag in Wolfach.\NAuf Ihren Besuch freuen sich alle Wolfacher Betriebe und Geschäfte sowie die Vereinsführung des Gewerbevereins Wolfach e. V.!
X-ALT-DESC;FMTTYPE=text/html:<p>Einkaufen, bummeln &amp; genießen...</p><p>Endlich ist Frühling! Und das heißt auch: Zeit fürs „Stadtbrunnenfest“ und den beliebten verkaufsoffenen Sonntag in Wolfach.</p><p>Auf Ihren Besuch freuen sich alle Wolfacher Betriebe und Geschäfte sowie die Vereinsführung des Gewerbevereins Wolfach e. V.!</p>
LAST-MODIFIED:20260417T055719Z
SEQUENCE:36187
X-ACCESS:1
X-HITS:0
X-COLOR:3366cc
X-SHOW-END-TIME:1
END:VEVENT
BEGIN:VEVENT
DTSTART;TZID=Europe/Berlin:20260505T100000
DTEND;TZID=Europe/Berlin:20260505T180000
UID:043C0B03-2DC7-4DEC-9B1B-1CFC8E56D544
SUMMARY:Maimarkt in Hornberg
CREATED:20260416T200610Z
DTSTAMP:20260416T200610Z
URL:https://www.schwarzwald-tourismus.info/veranstaltungen/maimarkt-af8460a4b8
DESCRIPTION:Evangelischer Kirchplatz und Bahnhofstraße\NHornberg\NDer beliebte Maimarkt steht vor der Tür und die Besucher dürfen sich auf eine Auswahl an verschiedenen Verkaufsständen freuen.\NDieses Jahr werden die Beschicker ihre Waren präsentieren, darunter Lederwaren, Bekleidung, köstliche Süßigkeiten und vieles mehr. Auch ein kulinarisches Angebot erwartet die Marktbesucher an diesem Tag.Wir freuen uns auf zahlreiche Besucher!
X-ALT-DESC;FMTTYPE=text/html:<p>Evangelischer Kirchplatz und Bahnhofstraße</p><p>Hornberg</p><p>Der beliebte Maimarkt steht vor der Tür und die Besucher dürfen sich auf eine Auswahl an verschiedenen Verkaufsständen freuen.</p><p>Dieses Jahr werden die Beschicker ihre Waren präsentieren, darunter Lederwaren, Bekleidung, köstliche Süßigkeiten und vieles mehr. Auch ein kulinarisches Angebot erwartet die Marktbesucher an diesem Tag.<br />Wir freuen uns auf zahlreiche Besucher!</p>
LAST-MODIFIED:20260417T055829Z
SEQUENCE:35539
X-ACCESS:1
X-HITS:0
X-COLOR:3366cc
X-SHOW-END-TIME:1
END:VEVENT
END:VCALENDAR