BEGIN:VCALENDAR
VERSION:2.0
PRODID:DPCALENDAR
CALSCALE:GREGORIAN
BEGIN:VTIMEZONE
TZID:Europe/Berlin
X-MICROSOFT-CDO-TZID:4
BEGIN:STANDARD
DTSTART:20251026T010000
TZOFFSETFROM:+0200
TZOFFSETTO:+0100
TZNAME:CET
END:STANDARD
BEGIN:STANDARD
DTSTART:20261025T010000
TZOFFSETFROM:+0200
TZOFFSETTO:+0100
TZNAME:CET
END:STANDARD
BEGIN:DAYLIGHT
DTSTART:20260329T010000
TZOFFSETFROM:+0100
TZOFFSETTO:+0200
TZNAME:CEST
END:DAYLIGHT
END:VTIMEZONE
X-WR-TIMEZONE:Europe/Berlin
BEGIN:VEVENT
DTSTART;VALUE=DATE:20260516
DTEND;VALUE=DATE:20260518
UID:0484DDF0-A3F7-44A2-B1C8-95835BD29F44
SUMMARY:Das Fastnachtsmuseum Narrenschopf ...
CREATED:20260417T060737Z
DTSTAMP:20260417T060737Z
URL:https://www.narrenschopf.de/
DESCRIPTION:Die Fasnets-Landschaften „HEGAU“ und „HOCHRHEIN“ der Vereinigung Schwäbisch-Alemannischer Narrenzünfte e.V. sowie der Förderverein Schwäbisch-Alemannischer Fasnet präsentieren mit voller Stolz die 28. Internationale Narrenbörse in Bad Dürrheim. Vom 16. bis 17. Mai 2026 erwartet Dich ein abwechslungsreiches Programm, das keine Wünsche offenlässt.\NAm 16. Mai 2026 fällt der Startschuss mit Beginn der 28. Internationalen Narrenbörse im Haus des Bürgers. Das Herz eines jeden närrischen Schnäppchenjägers und Sammlers wird bei der Börse von 11 bis 17 Uhr höherschlagen. Wie in den vergangenen Jahren wird es auch wieder eine Tombola mit attraktiven Preisen geben. Ein Highlight wird die Verlosung einer originalen Holzmaske der Narro-Altfischerzunft 1386 Laufenburg sein.....
X-ALT-DESC;FMTTYPE=text/html:<p><strong>Die Fasnets-Landschaften „HEGAU“ und „HOCHRHEIN“ der Vereinigung Schwäbisch-Alemannischer Narrenzünfte e.V. sowie der Förderverein Schwäbisch-Alemannischer Fasnet präsentieren mit voller Stolz die 28. Internationale Narrenbörse in Bad Dürrheim. Vom 16. bis 17. Mai 2026 erwartet Dich ein abwechslungsreiches Programm, das keine Wünsche offenlässt.</strong></p><p><strong>Am 16. Mai 2026 fällt der Startschuss mit Beginn der 28. Internationalen Narrenbörse im Haus des Bürgers. Das Herz eines jeden närrischen Schnäppchenjägers und Sammlers wird bei der Börse von 11 bis 17 Uhr höherschlagen. Wie in den vergangenen Jahren wird es auch wieder eine Tombola mit attraktiven Preisen geben. Ein Highlight wird die Verlosung einer originalen Holzmaske der Narro-Altfischerzunft 1386 Laufenburg sein.....</strong></p>
LAST-MODIFIED:20260417T060737Z
SEQUENCE:0
X-ACCESS:1
X-HITS:0
X-COLOR:3366cc
X-SHOW-END-TIME:0
END:VEVENT
END:VCALENDAR